BEGIN:VCALENDAR
VERSION:2.0
PRODID:-//Stark County Dental Society - ECPv6.15.20//NONSGML v1.0//EN
CALSCALE:GREGORIAN
METHOD:PUBLISH
X-ORIGINAL-URL:https://starkcountydentalsociety.org
X-WR-CALDESC:Events for Stark County Dental Society
REFRESH-INTERVAL;VALUE=DURATION:PT1H
X-Robots-Tag:noindex
X-PUBLISHED-TTL:PT1H
BEGIN:VTIMEZONE
TZID:America/New_York
BEGIN:DAYLIGHT
TZOFFSETFROM:-0500
TZOFFSETTO:-0400
TZNAME:EDT
DTSTART:20250309T070000
END:DAYLIGHT
BEGIN:STANDARD
TZOFFSETFROM:-0400
TZOFFSETTO:-0500
TZNAME:EST
DTSTART:20251102T060000
END:STANDARD
BEGIN:DAYLIGHT
TZOFFSETFROM:-0500
TZOFFSETTO:-0400
TZNAME:EDT
DTSTART:20260308T070000
END:DAYLIGHT
BEGIN:STANDARD
TZOFFSETFROM:-0400
TZOFFSETTO:-0500
TZNAME:EST
DTSTART:20261101T060000
END:STANDARD
BEGIN:DAYLIGHT
TZOFFSETFROM:-0500
TZOFFSETTO:-0400
TZNAME:EDT
DTSTART:20270314T070000
END:DAYLIGHT
BEGIN:STANDARD
TZOFFSETFROM:-0400
TZOFFSETTO:-0500
TZNAME:EST
DTSTART:20271107T060000
END:STANDARD
END:VTIMEZONE
BEGIN:VEVENT
DTSTART;TZID=America/New_York:20260211T080000
DTEND;TZID=America/New_York:20260211T123000
DTSTAMP:20260424T114550
CREATED:20251104T192158Z
LAST-MODIFIED:20251105T153025Z
UID:1380-1770796800-1770813000@starkcountydentalsociety.org
SUMMARY:OSHA Update and Radiology Review
DESCRIPTION:REGISTRATION FORM \nLive Lectures Via Zoom \nOSHA Update (2 CE Credits)\n8 – 10 a.m.\nKaren Daw\n\nLet’s Talk “Dirty” and Tackle those OSHA and IC Challenges “Swiftly”!!! \nLet’s talk dirty — the blood\, the spit\, and the splatter that make OSHA and infection control non-negotiable. In this high-energy\, laugh-while-you-learn session\, two-time speaking-award winner Karen Daw\, “The OSHA Lady\,” MBA\, CECM\, CDIPC helps your team fulfill the annual OSHA requirement and earn infection control CE in one fast-paced program. We’ll cut the noise and get to the clean version: what inspectors really care about\, how to avoid citations\, and the smart IC moves that save time and money. Consider this your compliance era\, with practical takeaways you can use immediately—so your practice stays fearless when the inspector says\, “It’s me\, Hi.” \nLearning Objectives\n\nReview the required elements of OSHA’s Bloodborne Pathogens Standard and map them to your procedures.\nRecognize the most common OSHA violations in dentistry and how to prevent them.\nApply infection-control best practices to reduce risk and improve efficiency.\n\nSpeaker\nKaren Daw\, MBA\, CECM\, CDIPC — award-winning national speaker and consultant; former Clinic Health & Safety Director\, The Ohio State University College of Dentistry; featured on 20/20\, Discovery\, and The Doctors. Through her company\, The OSHA Lady\, she delivers customized OSHA\, infection control\, and workplace safety training that is practical\, memorable\, and inspection-ready. \n\nRadiology Review (2 CE Credits)\n10:30 – 12:30 pm\n\nDental Radiography Review – Instructor: Korey J. Walsh\, RDH\, EFDA\, BA\nTopics Covered \n\nRadiation history & basics; physics & biology\nImage characteristics; exposure & technique errors\nPanoramic anatomy & technique; digital imaging\nLead apron shielding; renewing credentials\n\nHigh-quality\, diagnostic radiographs are vital to patient care. This course reviews fundamentals\, technique for intraoral and extraoral images\, patient communication\, and safety—so radiographers can produce diagnostic images while protecting patients and themselves. \nAbout the InstructorKorey Walsh is a Registered Dental Hygienist and adjunct instructor in Stark State College’s Dental Hygiene Program\, teaching radiography\, nutrition\, fundamentals\, clinical hygiene\, and more. She has worked in private practice since 2001 and has taught since 2013.
URL:https://starkcountydentalsociety.org/program/osha-radiology-review/
LOCATION:ZOOM Meeting
CATEGORIES:Membership Event
ORGANIZER;CN="Laura deForest":MAILTO:mail@starkcountydentalsociety.org
END:VEVENT
END:VCALENDAR